BEGIN:VCALENDAR
VERSION:2.0
PRODID:-//Squarespace Inc/Squarespace 6//v6//EN
BEGIN:VEVENT
UID:5f1b41eaae13377420cebd88@squarespace.com
DTSTAMP:20200725T032732Z
DTSTART:20200725T140000Z
DTEND:20200725T150000Z
SUMMARY:Moms Demand Action Event
END:VEVENT
END:VCALENDAR
