BEGIN:VCALENDAR
VERSION:2.0
PRODID:-//Squarespace Inc/Squarespace 6//v6//EN
BEGIN:VEVENT
UID:5f90a4c719a4bf1ae724909b@squarespace.com
DTSTAMP:20201021T211534Z
DTSTART:20201022T210000Z
DTEND:20201022T220000Z
SUMMARY:TNDP Cocktails and Questions
END:VEVENT
END:VCALENDAR
