BEGIN:VCALENDAR
VERSION:2.0
PRODID:-//Squarespace Inc/Squarespace 6//v6//EN
BEGIN:VEVENT
UID:5f83349bf2adc66c169fd51b@squarespace.com
DTSTAMP:20201011T190124Z
DTSTART:20201015T210000Z
DTEND:20201015T220000Z
SUMMARY:TNDP Cocktails and Questions
END:VEVENT
END:VCALENDAR
