BEGIN:VCALENDAR
VERSION:2.0
PRODID:-//Squarespace Inc/Squarespace 6//v6//EN
BEGIN:VEVENT
UID:5f3823cddcbb3342eca3003a@squarespace.com
DTSTAMP:20200815T182302Z
DTSTART:20200817T130000Z
DTEND:20200820T150000Z
SUMMARY:Virtual Democratic Convention
END:VEVENT
END:VCALENDAR
