BEGIN:VCALENDAR
VERSION:2.0
PRODID:-//Squarespace Inc/Squarespace 6//v6//EN
BEGIN:VEVENT
UID:5f0955d205f9c80a14787c78@squarespace.com
DTSTAMP:20200711T063159Z
DTSTART:20200711T130000Z
DTEND:20200711T200000Z
SUMMARY:Blair at the Mountain City Sunflower Festival
END:VEVENT
END:VCALENDAR
